BEGIN:VCALENDAR
VERSION:2.0
PRODID:-//ProductCamp Atlanta - ECPv6.15.13//NONSGML v1.0//EN
CALSCALE:GREGORIAN
METHOD:PUBLISH
X-ORIGINAL-URL:https://pcampatl.com
X-WR-CALDESC:Events for ProductCamp Atlanta
REFRESH-INTERVAL;VALUE=DURATION:PT1H
X-Robots-Tag:noindex
X-PUBLISHED-TTL:PT1H
BEGIN:VTIMEZONE
TZID:-04:00
END:VTIMEZONE
BEGIN:VEVENT
DTSTART;TZID=-04:00:20250820T183000
DTEND;TZID=-04:00:20250820T203000
DTSTAMP:20260421T125617
CREATED:20250807T090448Z
LAST-MODIFIED:20250820T163917Z
UID:10000199-1755714600-1755721800@pcampatl.com
SUMMARY:Vibe Coding for the AI Enabled Product Managers
DESCRIPTION:If you’ve ever wondered how you\, as a Product professional\, could use vibe based coding\, then this meetup is for you! \nJoin us for a fun evening with Albin Bajramovic as we dive into details around what vibe coding is\, why it matters\, available tools\, and what capabilities PMs can unlock with vibe based coding. \nAbout Albin Bajramovic:\n*Albin has over 20 years experience in technology\, Product Management\, and Agile Consulting\, having working with companies such as Northern Trust\, J.P Morgan\, and Ford.*\nhttps://www.linkedin.com/in/albinbajramovic
URL:https://pcampatl.com/event/vibe-coding-for-the-ai-enabled-product-managers/
LOCATION:Stibo Systems Inc.\, 3200 Windy Hill Rd SE Suite 1200W\, Atlanta\, GA\, 30339\, United States
ATTACH;FMTTYPE=image/jpeg:https://pcampatl.com/wp-content/uploads/2025/08/1024x576-A7Iyq4.jpg
GEO:33.913776;-84.461
X-APPLE-STRUCTURED-LOCATION;VALUE=URI;X-ADDRESS=Stibo Systems Inc. 3200 Windy Hill Rd SE Suite 1200W Atlanta GA 30339 United States;X-APPLE-RADIUS=500;X-TITLE=3200 Windy Hill Rd SE Suite 1200W:geo:-84.461,33.913776
END:VEVENT
BEGIN:VEVENT
DTSTART;TZID=-04:00:20250626T183000
DTEND;TZID=-04:00:20250626T203000
DTSTAMP:20260421T125617
CREATED:20250617T212753Z
LAST-MODIFIED:20250626T234530Z
UID:10000177-1750962600-1750969800@pcampatl.com
SUMMARY:"What do Product Managers do?" with author Tami Reiss
DESCRIPTION:ProductTank Meetup Social \nWe welcome existing and new members to join us for an inspiring evening with Tami Reiss\, product coach and author of “What do Product Managers Do?” \n**About Tami**\n*Tami Reiss is a leadership trainer and coach who helps executives and managers align their strategy\, influence\, and decision-making to drive success. Through her L.E.A.D. framework—which emphasizes looking toward the future\, empowering teams\, activating supporters\, and making smart\, decisive choices—she equips leaders with the tools to align teams\, build trust\, and execute with confidence.* \n*As a speaker\, corporate trainer\, and advisor\, Tami has coached countless leaders to master executive presence\, align organizations for impact\, and navigate the complexities of leadership. She has distilled these principles for a younger audience in her first book\, What Do Product Managers Do?\, a rhyming children’s book that introduces kids—and their grandparents—to the world of leadership.* \n*Website: [https://theleaderwith.in](https://theleaderwith.in)*\n*LinkedIn: [linkedin.com/in/tamireiss](https://www.linkedin.com/in/tamireiss/)*\n*Blog: [leaderwithin.substack.com](http://leaderwithin.substack.com)*\n*Book Pre-Order: [https://mascotbooks.com/product/what-do-product-managers-do-a-primer-for-aspiring-pms-of-all-ages/](https://mascotbooks.com/product/what-do-product-managers-do-a-primer-for-aspiring-pms-of-all-ages/)*\n*My GPT which helps others lead with influence: [https://chatgpt.com/g/g-679afb821a6c81918edef32295c26b8b-the-leader-within-tami-from-miami](https://chatgpt.com/g/g-679afb821a6c81918edef32295c26b8b-the-leader-within-tami-from-miami)*\n*The Mastering Influence Map download: [https://www.myleaderwithin.com/pl/2148678558](https://www.myleaderwithin.com/influence)*
URL:https://pcampatl.com/event/what-do-product-managers-do-with-author-tami-reiss/
LOCATION:Stibo Systems Inc.\, 3200 Windy Hill Rd SE Suite 1200W\, Atlanta\, GA\, 30339\, United States
ATTACH;FMTTYPE=image/jpeg:https://pcampatl.com/wp-content/uploads/2025/06/1024x576-cCKStF.tmp_.jpg
GEO:33.913776;-84.461
X-APPLE-STRUCTURED-LOCATION;VALUE=URI;X-ADDRESS=Stibo Systems Inc. 3200 Windy Hill Rd SE Suite 1200W Atlanta GA 30339 United States;X-APPLE-RADIUS=500;X-TITLE=3200 Windy Hill Rd SE Suite 1200W:geo:-84.461,33.913776
END:VEVENT
END:VCALENDAR