BEGIN:VCALENDAR
VERSION:2.0
PRODID:-//ProductCamp Atlanta - ECPv6.15.13//NONSGML v1.0//EN
CALSCALE:GREGORIAN
METHOD:PUBLISH
X-ORIGINAL-URL:https://pcampatl.com
X-WR-CALDESC:Events for ProductCamp Atlanta
REFRESH-INTERVAL;VALUE=DURATION:PT1H
X-Robots-Tag:noindex
X-PUBLISHED-TTL:PT1H
BEGIN:VTIMEZONE
TZID:America/New_York
BEGIN:DAYLIGHT
TZOFFSETFROM:-0500
TZOFFSETTO:-0400
TZNAME:EDT
DTSTART:20240310T070000
END:DAYLIGHT
BEGIN:STANDARD
TZOFFSETFROM:-0400
TZOFFSETTO:-0500
TZNAME:EST
DTSTART:20241103T060000
END:STANDARD
BEGIN:DAYLIGHT
TZOFFSETFROM:-0500
TZOFFSETTO:-0400
TZNAME:EDT
DTSTART:20250309T070000
END:DAYLIGHT
BEGIN:STANDARD
TZOFFSETFROM:-0400
TZOFFSETTO:-0500
TZNAME:EST
DTSTART:20251102T060000
END:STANDARD
BEGIN:DAYLIGHT
TZOFFSETFROM:-0500
TZOFFSETTO:-0400
TZNAME:EDT
DTSTART:20260308T070000
END:DAYLIGHT
BEGIN:STANDARD
TZOFFSETFROM:-0400
TZOFFSETTO:-0500
TZNAME:EST
DTSTART:20261101T060000
END:STANDARD
END:VTIMEZONE
BEGIN:VEVENT
DTSTART;TZID=America/New_York:20250919T120000
DTEND;TZID=America/New_York:20250919T130000
DTSTAMP:20260421T085929
CREATED:20250617T214720Z
LAST-MODIFIED:20250918T184129Z
UID:10000069-1758283200-1758286800@pcampatl.com
SUMMARY:Startup Chowdown
DESCRIPTION:Whether you’re a member or a guest\, everyone is welcome to Startup Chowdown!
URL:https://pcampatl.com/event/startup-chowdown-13/
LOCATION:Atlanta Tech Village\, 3423 Piedmont Road Northeast\, Event Center Conference Room\, Atlanta\, GA\, 30305\, United States
CATEGORIES:Startup
ATTACH;FMTTYPE=image/jpeg:https://pcampatl.com/wp-content/uploads/2024/09/feccdfca0a0bafec390f5603042baf67-1.jpg
END:VEVENT
BEGIN:VEVENT
DTSTART;TZID=America/New_York:20250910T120000
DTEND;TZID=America/New_York:20250910T133000
DTSTAMP:20260421T085929
CREATED:20250617T214718Z
LAST-MODIFIED:20250909T230820Z
UID:10000109-1757505600-1757511000@pcampatl.com
SUMMARY:Women + Tech Meetup
DESCRIPTION:Join us for the 2025 Women + Tech Meetup series! We’re hosting once-a-month gatherings for learning and networking in  our tech ecosystem.
URL:https://pcampatl.com/event/women-tech-meetup-6/
LOCATION:Atlanta Tech Village\, 3423 Piedmont Road Northeast\, Event Center Conference Room\, Atlanta\, GA\, 30305\, United States
CATEGORIES:Startup
ATTACH;FMTTYPE=image/jpeg:https://pcampatl.com/wp-content/uploads/2025/01/de56a142d481458523ac6ed975c58c14.jpg
END:VEVENT
BEGIN:VEVENT
DTSTART;TZID=America/New_York:20250905T120000
DTEND;TZID=America/New_York:20250905T130000
DTSTAMP:20260421T085929
CREATED:20250617T214720Z
LAST-MODIFIED:20250904T220848Z
UID:10000068-1757073600-1757077200@pcampatl.com
SUMMARY:Startup Chowdown
DESCRIPTION:Whether you’re a member or a guest\, everyone is welcome to Startup Chowdown!
URL:https://pcampatl.com/event/startup-chowdown-14/
LOCATION:Atlanta Tech Village\, 3423 Piedmont Road Northeast\, Event Center Conference Room\, Atlanta\, GA\, 30305\, United States
CATEGORIES:Startup
ATTACH;FMTTYPE=image/jpeg:https://pcampatl.com/wp-content/uploads/2024/09/feccdfca0a0bafec390f5603042baf67-1.jpg
END:VEVENT
BEGIN:VEVENT
DTSTART;TZID=America/New_York:20250826T100000
DTEND;TZID=America/New_York:20250826T113000
DTSTAMP:20260421T085929
CREATED:20250617T214632Z
LAST-MODIFIED:20250825T193933Z
UID:10000173-1756202400-1756207800@pcampatl.com
SUMMARY:Startup Summer School 2025
DESCRIPTION:Join us for Startup Summer School 2025 at Atlanta Tech Village!
URL:https://pcampatl.com/event/startup-summer-school-2025/
LOCATION:Atlanta Tech Village\, 3423 Piedmont Road Northeast\, Event Center Conference Room\, Atlanta\, GA\, 30305\, United States
CATEGORIES:Startup
ATTACH;FMTTYPE=image/jpeg:https://pcampatl.com/wp-content/uploads/2025/06/ac0ecaab3945541d0c07cee90caf189a.jpg
END:VEVENT
BEGIN:VEVENT
DTSTART;TZID=America/New_York:20250819T100000
DTEND;TZID=America/New_York:20250819T113000
DTSTAMP:20260421T085929
CREATED:20250617T214633Z
LAST-MODIFIED:20250818T231852Z
UID:10000172-1755597600-1755603000@pcampatl.com
SUMMARY:Startup Summer School 2025
DESCRIPTION:Join us for Startup Summer School 2025 at Atlanta Tech Village!
URL:https://pcampatl.com/event/startup-summer-school-2025-2/
LOCATION:Atlanta Tech Village\, 3423 Piedmont Road Northeast\, Event Center Conference Room\, Atlanta\, GA\, 30305\, United States
CATEGORIES:Startup
ATTACH;FMTTYPE=image/jpeg:https://pcampatl.com/wp-content/uploads/2025/06/ac0ecaab3945541d0c07cee90caf189a.jpg
END:VEVENT
BEGIN:VEVENT
DTSTART;TZID=America/New_York:20250815T120000
DTEND;TZID=America/New_York:20250815T130000
DTSTAMP:20260421T085929
CREATED:20250617T214721Z
LAST-MODIFIED:20250814T230005Z
UID:10000067-1755259200-1755262800@pcampatl.com
SUMMARY:Startup Chowdown
DESCRIPTION:Whether you’re a member or a guest\, everyone is welcome to Startup Chowdown!
URL:https://pcampatl.com/event/startup-chowdown-15/
LOCATION:Atlanta Tech Village\, 3423 Piedmont Road Northeast\, Event Center Conference Room\, Atlanta\, GA\, 30305\, United States
CATEGORIES:Startup
ATTACH;FMTTYPE=image/jpeg:https://pcampatl.com/wp-content/uploads/2024/09/feccdfca0a0bafec390f5603042baf67-1.jpg
END:VEVENT
BEGIN:VEVENT
DTSTART;TZID=America/New_York:20250813T173000
DTEND;TZID=America/New_York:20250813T190000
DTSTAMP:20260421T085929
CREATED:20250617T214719Z
LAST-MODIFIED:20250813T224826Z
UID:10000108-1755106200-1755111600@pcampatl.com
SUMMARY:Women + Tech Meetup
DESCRIPTION:Join us for the 2025 Women + Tech Meetup series! We’re hosting once-a-month gatherings for learning and networking in  our tech ecosystem.
URL:https://pcampatl.com/event/women-tech-meetup-7/
LOCATION:Atlanta Tech Village\, 3423 Piedmont Road Northeast\, Event Center Conference Room\, Atlanta\, GA\, 30305\, United States
CATEGORIES:Startup
ATTACH;FMTTYPE=image/jpeg:https://pcampatl.com/wp-content/uploads/2025/06/f2ca7a1036aed1589727e5228fb85829.jpg
END:VEVENT
BEGIN:VEVENT
DTSTART;TZID=America/New_York:20250812T100000
DTEND;TZID=America/New_York:20250812T113000
DTSTAMP:20260421T085929
CREATED:20250617T214633Z
LAST-MODIFIED:20250811T213930Z
UID:10000171-1754992800-1754998200@pcampatl.com
SUMMARY:Startup Summer School 2025
DESCRIPTION:Join us for Startup Summer School 2025 at Atlanta Tech Village!
URL:https://pcampatl.com/event/startup-summer-school-2025-3/
LOCATION:Atlanta Tech Village\, 3423 Piedmont Road Northeast\, Event Center Conference Room\, Atlanta\, GA\, 30305\, United States
CATEGORIES:Startup
ATTACH;FMTTYPE=image/jpeg:https://pcampatl.com/wp-content/uploads/2025/06/ac0ecaab3945541d0c07cee90caf189a.jpg
END:VEVENT
BEGIN:VEVENT
DTSTART;TZID=America/New_York:20250805T100000
DTEND;TZID=America/New_York:20250805T113000
DTSTAMP:20260421T085929
CREATED:20250617T214633Z
LAST-MODIFIED:20250804T191812Z
UID:10000170-1754388000-1754393400@pcampatl.com
SUMMARY:Startup Summer School 2025
DESCRIPTION:Join us for Startup Summer School 2025 at Atlanta Tech Village!
URL:https://pcampatl.com/event/startup-summer-school-2025-4/
LOCATION:Atlanta Tech Village\, 3423 Piedmont Road Northeast\, Event Center Conference Room\, Atlanta\, GA\, 30305\, United States
CATEGORIES:Startup
ATTACH;FMTTYPE=image/jpeg:https://pcampatl.com/wp-content/uploads/2025/06/ac0ecaab3945541d0c07cee90caf189a.jpg
END:VEVENT
BEGIN:VEVENT
DTSTART;TZID=America/New_York:20250801T120000
DTEND;TZID=America/New_York:20250801T130000
DTSTAMP:20260421T085929
CREATED:20250617T214721Z
LAST-MODIFIED:20250731T182412Z
UID:10000066-1754049600-1754053200@pcampatl.com
SUMMARY:Startup Chowdown
DESCRIPTION:Whether you’re a member or a guest\, everyone is welcome to Startup Chowdown!
URL:https://pcampatl.com/event/startup-chowdown-16/
LOCATION:Atlanta Tech Village\, 3423 Piedmont Road Northeast\, Event Center Conference Room\, Atlanta\, GA\, 30305\, United States
CATEGORIES:Startup
ATTACH;FMTTYPE=image/jpeg:https://pcampatl.com/wp-content/uploads/2024/09/feccdfca0a0bafec390f5603042baf67-1.jpg
END:VEVENT
BEGIN:VEVENT
DTSTART;TZID=America/New_York:20250729T100000
DTEND;TZID=America/New_York:20250729T113000
DTSTAMP:20260421T085929
CREATED:20250617T214633Z
LAST-MODIFIED:20250728T235117Z
UID:10000169-1753783200-1753788600@pcampatl.com
SUMMARY:Startup Summer School 2025
DESCRIPTION:Join us for Startup Summer School 2025 at Atlanta Tech Village!
URL:https://pcampatl.com/event/startup-summer-school-2025-5/
LOCATION:Atlanta Tech Village\, 3423 Piedmont Road Northeast\, Event Center Conference Room\, Atlanta\, GA\, 30305\, United States
CATEGORIES:Startup
ATTACH;FMTTYPE=image/jpeg:https://pcampatl.com/wp-content/uploads/2025/06/ac0ecaab3945541d0c07cee90caf189a.jpg
END:VEVENT
BEGIN:VEVENT
DTSTART;TZID=America/New_York:20250722T100000
DTEND;TZID=America/New_York:20250722T113000
DTSTAMP:20260421T085929
CREATED:20250617T214633Z
LAST-MODIFIED:20250721T210846Z
UID:10000168-1753178400-1753183800@pcampatl.com
SUMMARY:Startup Summer School 2025
DESCRIPTION:Join us for Startup Summer School 2025 at Atlanta Tech Village!
URL:https://pcampatl.com/event/startup-summer-school-2025-6/
LOCATION:Atlanta Tech Village\, 3423 Piedmont Road Northeast\, Event Center Conference Room\, Atlanta\, GA\, 30305\, United States
CATEGORIES:Startup
ATTACH;FMTTYPE=image/jpeg:https://pcampatl.com/wp-content/uploads/2025/06/ac0ecaab3945541d0c07cee90caf189a.jpg
END:VEVENT
BEGIN:VEVENT
DTSTART;TZID=America/New_York:20250718T120000
DTEND;TZID=America/New_York:20250718T130000
DTSTAMP:20260421T085929
CREATED:20250617T214721Z
LAST-MODIFIED:20250717T201253Z
UID:10000065-1752840000-1752843600@pcampatl.com
SUMMARY:Startup Chowdown
DESCRIPTION:Whether you’re a member or a guest\, everyone is welcome to Startup Chowdown!
URL:https://pcampatl.com/event/startup-chowdown-17/
LOCATION:Atlanta Tech Village\, 3423 Piedmont Road Northeast\, Event Center Conference Room\, Atlanta\, GA\, 30305\, United States
CATEGORIES:Startup
ATTACH;FMTTYPE=image/jpeg:https://pcampatl.com/wp-content/uploads/2024/09/feccdfca0a0bafec390f5603042baf67-1.jpg
END:VEVENT
BEGIN:VEVENT
DTSTART;TZID=America/New_York:20250715T100000
DTEND;TZID=America/New_York:20250715T113000
DTSTAMP:20260421T085929
CREATED:20250617T214633Z
LAST-MODIFIED:20250714T192111Z
UID:10000167-1752573600-1752579000@pcampatl.com
SUMMARY:Startup Summer School 2025
DESCRIPTION:Join us for Startup Summer School 2025 at Atlanta Tech Village!
URL:https://pcampatl.com/event/startup-summer-school-2025-7/
LOCATION:Atlanta Tech Village\, 3423 Piedmont Road Northeast\, Event Center Conference Room\, Atlanta\, GA\, 30305\, United States
CATEGORIES:Startup
ATTACH;FMTTYPE=image/jpeg:https://pcampatl.com/wp-content/uploads/2025/06/ac0ecaab3945541d0c07cee90caf189a.jpg
END:VEVENT
BEGIN:VEVENT
DTSTART;TZID=America/New_York:20250714T180000
DTEND;TZID=America/New_York:20250714T203000
DTSTAMP:20260421T085929
CREATED:20250617T214719Z
LAST-MODIFIED:20250714T192109Z
UID:10000159-1752516000-1752525000@pcampatl.com
SUMMARY:Atlanta Startup Village
DESCRIPTION:Join us in person for Atlanta Startup Village in 2025!
URL:https://pcampatl.com/event/atlanta-startup-village-5/
LOCATION:Atlanta Tech Village\, 3423 Piedmont Road Northeast\, Event Center Conference Room\, Atlanta\, GA\, 30305\, United States
CATEGORIES:Startup
ATTACH;FMTTYPE=image/jpeg:https://pcampatl.com/wp-content/uploads/2024/09/631b7c925240a6740b355c9277f027f8.jpg
END:VEVENT
BEGIN:VEVENT
DTSTART;TZID=America/New_York:20250709T120000
DTEND;TZID=America/New_York:20250709T133000
DTSTAMP:20260421T085929
CREATED:20250617T214719Z
LAST-MODIFIED:20250708T234748Z
UID:10000107-1752062400-1752067800@pcampatl.com
SUMMARY:Women + Tech Meetup
DESCRIPTION:Join us for the 2025 Women + Tech Meetup series! We’re hosting once-a-month gatherings for learning and networking in  our tech ecosystem.
URL:https://pcampatl.com/event/women-tech-meetup-8/
LOCATION:Atlanta Tech Village\, 3423 Piedmont Road Northeast\, Event Center Conference Room\, Atlanta\, GA\, 30305\, United States
CATEGORIES:Startup
ATTACH;FMTTYPE=image/jpeg:https://pcampatl.com/wp-content/uploads/2025/06/f2ca7a1036aed1589727e5228fb85829.jpg
END:VEVENT
BEGIN:VEVENT
DTSTART;TZID=America/New_York:20250708T100000
DTEND;TZID=America/New_York:20250708T113000
DTSTAMP:20260421T085929
CREATED:20250617T214634Z
LAST-MODIFIED:20250707T233819Z
UID:10000166-1751968800-1751974200@pcampatl.com
SUMMARY:Startup Summer School 2025
DESCRIPTION:Join us for Startup Summer School 2025 at Atlanta Tech Village!
URL:https://pcampatl.com/event/startup-summer-school-2025-8/
LOCATION:Atlanta Tech Village\, 3423 Piedmont Road Northeast\, Event Center Conference Room\, Atlanta\, GA\, 30305\, United States
CATEGORIES:Startup
ATTACH;FMTTYPE=image/jpeg:https://pcampatl.com/wp-content/uploads/2025/06/ac0ecaab3945541d0c07cee90caf189a.jpg
END:VEVENT
BEGIN:VEVENT
DTSTART;TZID=America/New_York:20250701T100000
DTEND;TZID=America/New_York:20250701T113000
DTSTAMP:20260421T085929
CREATED:20250617T214634Z
LAST-MODIFIED:20250630T214457Z
UID:10000165-1751364000-1751369400@pcampatl.com
SUMMARY:Startup Summer School 2025
DESCRIPTION:Join us for Startup Summer School 2025 at Atlanta Tech Village!
URL:https://pcampatl.com/event/startup-summer-school-2025-9/
LOCATION:Atlanta Tech Village\, 3423 Piedmont Road Northeast\, Event Center Conference Room\, Atlanta\, GA\, 30305\, United States
CATEGORIES:Startup
ATTACH;FMTTYPE=image/jpeg:https://pcampatl.com/wp-content/uploads/2025/06/ac0ecaab3945541d0c07cee90caf189a.jpg
END:VEVENT
BEGIN:VEVENT
DTSTART;TZID=America/New_York:20250630T183000
DTEND;TZID=America/New_York:20250630T203000
DTSTAMP:20260421T085929
CREATED:20250617T214742Z
LAST-MODIFIED:20250617T214742Z
UID:10000113-1751308200-1751315400@pcampatl.com
SUMMARY:Atlanta Startup Village
DESCRIPTION:Join us in person for Atlanta Startup Village in 2025!
URL:https://pcampatl.com/event/atlanta-startup-village-6/
LOCATION:Atlanta Tech Village\, 3423 Piedmont Road Northeast\, Event Center Conference Room\, Atlanta\, GA\, 30305\, United States
CATEGORIES:Startup
ATTACH;FMTTYPE=image/jpeg:https://pcampatl.com/wp-content/uploads/2024/09/631b7c925240a6740b355c9277f027f8.jpg
END:VEVENT
BEGIN:VEVENT
DTSTART;TZID=America/New_York:20250624T100000
DTEND;TZID=America/New_York:20250624T113000
DTSTAMP:20260421T085929
CREATED:20250617T214634Z
LAST-MODIFIED:20250623T202328Z
UID:10000164-1750759200-1750764600@pcampatl.com
SUMMARY:Startup Summer School 2025
DESCRIPTION:Join us for Startup Summer School 2025 at Atlanta Tech Village!
URL:https://pcampatl.com/event/startup-summer-school-2025-10/
LOCATION:Atlanta Tech Village\, 3423 Piedmont Road Northeast\, Event Center Conference Room\, Atlanta\, GA\, 30305\, United States
CATEGORIES:Startup
ATTACH;FMTTYPE=image/jpeg:https://pcampatl.com/wp-content/uploads/2025/06/ac0ecaab3945541d0c07cee90caf189a.jpg
END:VEVENT
BEGIN:VEVENT
DTSTART;TZID=America/New_York:20250620T120000
DTEND;TZID=America/New_York:20250620T130000
DTSTAMP:20260421T085929
CREATED:20250617T214741Z
LAST-MODIFIED:20250619T191247Z
UID:10000064-1750420800-1750424400@pcampatl.com
SUMMARY:Startup Chowdown
DESCRIPTION:Whether you’re a member or a guest\, everyone is welcome to Startup Chowdown!
URL:https://pcampatl.com/event/startup-chowdown-18/
LOCATION:Atlanta Tech Village\, 3423 Piedmont Road Northeast\, Event Center Conference Room\, Atlanta\, GA\, 30305\, United States
CATEGORIES:Startup
ATTACH;FMTTYPE=image/jpeg:https://pcampatl.com/wp-content/uploads/2024/09/feccdfca0a0bafec390f5603042baf67-1.jpg
END:VEVENT
BEGIN:VEVENT
DTSTART;TZID=America/New_York:20250606T120000
DTEND;TZID=America/New_York:20250606T130000
DTSTAMP:20260421T085929
CREATED:20250617T220459Z
LAST-MODIFIED:20250617T220459Z
UID:10000063-1749211200-1749214800@pcampatl.com
SUMMARY:Startup Chowdown
DESCRIPTION:Whether you’re a member or a guest\, everyone is welcome to Startup Chowdown!
URL:https://pcampatl.com/event/startup-chowdown-19/
LOCATION:Atlanta Tech Village\, 3423 Piedmont Road Northeast\, Event Center Conference Room\, Atlanta\, GA\, 30305\, United States
CATEGORIES:Startup
ATTACH;FMTTYPE=image/jpeg:https://pcampatl.com/wp-content/uploads/2024/09/feccdfca0a0bafec390f5603042baf67-1.jpg
END:VEVENT
BEGIN:VEVENT
DTSTART;TZID=America/New_York:20250520T113000
DTEND;TZID=America/New_York:20250520T130000
DTSTAMP:20260421T085929
CREATED:20250617T220459Z
LAST-MODIFIED:20250617T220459Z
UID:10000128-1747740600-1747746000@pcampatl.com
SUMMARY:Village Workshops: Spring Series
DESCRIPTION:Join us this Spring at Atlanta Tech Village Buckhead for our Village Workshop series led by experts in the industry.
URL:https://pcampatl.com/event/village-workshops-spring-series/
LOCATION:Atlanta Tech Village\, 3423 Piedmont Road Northeast\, Event Center Conference Room\, Atlanta\, GA\, 30305\, United States
CATEGORIES:Startup
ATTACH;FMTTYPE=image/jpeg:https://pcampatl.com/wp-content/uploads/2025/05/205a33e9d45057543747dce2874fb874.jpg
END:VEVENT
BEGIN:VEVENT
DTSTART;TZID=America/New_York:20250516T120000
DTEND;TZID=America/New_York:20250516T130000
DTSTAMP:20260421T085929
CREATED:20250617T220500Z
LAST-MODIFIED:20250617T220500Z
UID:10000062-1747396800-1747400400@pcampatl.com
SUMMARY:Startup Chowdown
DESCRIPTION:Whether you’re a member or a guest\, everyone is welcome to Startup Chowdown!
URL:https://pcampatl.com/event/startup-chowdown-20/
LOCATION:Atlanta Tech Village\, 3423 Piedmont Road Northeast\, Event Center Conference Room\, Atlanta\, GA\, 30305\, United States
CATEGORIES:Startup
ATTACH;FMTTYPE=image/jpeg:https://pcampatl.com/wp-content/uploads/2024/09/feccdfca0a0bafec390f5603042baf67-1.jpg
END:VEVENT
BEGIN:VEVENT
DTSTART;TZID=America/New_York:20250514T120000
DTEND;TZID=America/New_York:20250514T133000
DTSTAMP:20260421T085929
CREATED:20250617T220500Z
LAST-MODIFIED:20250617T220500Z
UID:10000106-1747224000-1747229400@pcampatl.com
SUMMARY:Women + Tech Meetup
DESCRIPTION:Join us for the 2025 Women + Tech Meetup series! We’re hosting once-a-month gatherings for learning and networking in  our tech ecosystem.
URL:https://pcampatl.com/event/women-tech-meetup-9/
LOCATION:Atlanta Tech Village\, 3423 Piedmont Road Northeast\, Event Center Conference Room\, Atlanta\, GA\, 30305\, United States
CATEGORIES:Startup
ATTACH;FMTTYPE=image/jpeg:https://pcampatl.com/wp-content/uploads/2025/04/afa0eff0eee36f00b443f23e901ce0b6.jpg
END:VEVENT
BEGIN:VEVENT
DTSTART;TZID=America/New_York:20250502T130000
DTEND;TZID=America/New_York:20250502T140000
DTSTAMP:20260421T085929
CREATED:20250617T220501Z
LAST-MODIFIED:20250617T220501Z
UID:10000086-1746190800-1746194400@pcampatl.com
SUMMARY:Pitch Practice
DESCRIPTION:Join us in-person at Atlanta Tech Village on Fridays at 1:00pm for Pitch Practice with Jacey Cadet.
URL:https://pcampatl.com/event/pitch-practice-10/
LOCATION:Atlanta Tech Village\, 3423 Piedmont Road Northeast\, Event Center Conference Room\, Atlanta\, GA\, 30305\, United States
CATEGORIES:Startup
ATTACH;FMTTYPE=image/jpeg:https://pcampatl.com/wp-content/uploads/2024/09/fbb9e6af1a290af07b71d67d3bdea673.jpg
END:VEVENT
BEGIN:VEVENT
DTSTART;TZID=America/New_York:20250502T120000
DTEND;TZID=America/New_York:20250502T130000
DTSTAMP:20260421T085929
CREATED:20250617T220501Z
LAST-MODIFIED:20250617T220501Z
UID:10000061-1746187200-1746190800@pcampatl.com
SUMMARY:Startup Chowdown
DESCRIPTION:Whether you’re a member or a guest\, everyone is welcome to Startup Chowdown!
URL:https://pcampatl.com/event/startup-chowdown-21/
LOCATION:Atlanta Tech Village\, 3423 Piedmont Road Northeast\, Event Center Conference Room\, Atlanta\, GA\, 30305\, United States
CATEGORIES:Startup
ATTACH;FMTTYPE=image/jpeg:https://pcampatl.com/wp-content/uploads/2024/09/feccdfca0a0bafec390f5603042baf67-1.jpg
END:VEVENT
BEGIN:VEVENT
DTSTART;TZID=America/New_York:20250425T180000
DTEND;TZID=America/New_York:20250425T210000
DTSTAMP:20260421T085929
CREATED:20250617T220502Z
LAST-MODIFIED:20250617T220502Z
UID:10000141-1745604000-1745614800@pcampatl.com
SUMMARY:Demo Day & Graduation Party: It Takes a Village Pre-Accelerator #15
DESCRIPTION:Join us for the It Takes a Village Pre-Accelerator #15 Graduation & Demo Day. Hear their company pitch followed by a rooftop celebration!\n\n\nJoin us to celebrate the graduation of Atlanta Tech Village’s 15th It Takes a Village Pre-Accelerator Program! \nAfter 16 weeks of lesson labs\, pitch practices and meetings with ATV’s Mentor and Advisors\, 6 startups will take to the stage for a 4 minute pitch with 1 minute Q&A. To conclude our show\, our sponsors will be giving away hot desk scholarships and other prizes! \nAfter the pitches\, we’re heading up to ATV Buckhead’s rooftop for tacos\, a champagne toast\, and graduation party. \nGet to know this cohort’s current graduates:\nPowershift: Stephanie Dowda Demer \nPathSynch: Charles Berry \nSonaara: Dany Hernandez \nDentaFlo: Joe Guster \nLutely: Loren Mount O’brien \nSmartCompart: Keillen Smith \nJoin us at ATV on April 25th to celebrate the hard work and dedication of these six amazing founders. \nAbout the Program:\nThis pre-accelerator emphasizes the importance of supporting diverse perspectives and inclusive work environments in technology. The It Takes A Village Pre-Accelerator is one of the nation’s most prestigious programs for pre-seed startups led by women and people of color.
URL:https://pcampatl.com/event/demo-day-graduation-party-it-takes-a-village-pre-accelerator-15/
LOCATION:Atlanta Tech Village\, 3423 Piedmont Road Northeast\, Event Center Conference Room\, Atlanta\, GA\, 30305\, United States
CATEGORIES:Startup
ATTACH;FMTTYPE=image/jpeg:https://pcampatl.com/wp-content/uploads/2024/10/4e19815bec8f72f04debf89c431085b5.jpg
END:VEVENT
BEGIN:VEVENT
DTSTART;TZID=America/New_York:20250418T130000
DTEND;TZID=America/New_York:20250418T140000
DTSTAMP:20260421T085929
CREATED:20250617T220503Z
LAST-MODIFIED:20250617T220503Z
UID:10000085-1744981200-1744984800@pcampatl.com
SUMMARY:Pitch Practice
DESCRIPTION:Join us in-person at Atlanta Tech Village on Fridays at 1:00pm for Pitch Practice with Jacey Cadet.
URL:https://pcampatl.com/event/pitch-practice-11/
LOCATION:Atlanta Tech Village\, 3423 Piedmont Road Northeast\, Event Center Conference Room\, Atlanta\, GA\, 30305\, United States
CATEGORIES:Startup
ATTACH;FMTTYPE=image/jpeg:https://pcampatl.com/wp-content/uploads/2024/09/fbb9e6af1a290af07b71d67d3bdea673.jpg
END:VEVENT
BEGIN:VEVENT
DTSTART;TZID=America/New_York:20250418T120000
DTEND;TZID=America/New_York:20250418T130000
DTSTAMP:20260421T085929
CREATED:20250617T220503Z
LAST-MODIFIED:20250617T220503Z
UID:10000060-1744977600-1744981200@pcampatl.com
SUMMARY:Startup Chowdown
DESCRIPTION:Whether you’re a member or a guest\, everyone is welcome to Startup Chowdown!
URL:https://pcampatl.com/event/startup-chowdown-22/
LOCATION:Atlanta Tech Village\, 3423 Piedmont Road Northeast\, Event Center Conference Room\, Atlanta\, GA\, 30305\, United States
CATEGORIES:Startup
ATTACH;FMTTYPE=image/jpeg:https://pcampatl.com/wp-content/uploads/2024/09/feccdfca0a0bafec390f5603042baf67-1.jpg
END:VEVENT
END:VCALENDAR