BEGIN:VCALENDAR
VERSION:2.0
PRODID:-//ProductCamp Atlanta - ECPv6.15.13//NONSGML v1.0//EN
CALSCALE:GREGORIAN
METHOD:PUBLISH
X-WR-CALNAME:ProductCamp Atlanta
X-ORIGINAL-URL:https://pcampatl.com
X-WR-CALDESC:Events for ProductCamp Atlanta
REFRESH-INTERVAL;VALUE=DURATION:PT1H
X-Robots-Tag:noindex
X-PUBLISHED-TTL:PT1H
BEGIN:VTIMEZONE
TZID:America/New_York
BEGIN:DAYLIGHT
TZOFFSETFROM:-0500
TZOFFSETTO:-0400
TZNAME:EDT
DTSTART:20230312T070000
END:DAYLIGHT
BEGIN:STANDARD
TZOFFSETFROM:-0400
TZOFFSETTO:-0500
TZNAME:EST
DTSTART:20231105T060000
END:STANDARD
BEGIN:DAYLIGHT
TZOFFSETFROM:-0500
TZOFFSETTO:-0400
TZNAME:EDT
DTSTART:20240310T070000
END:DAYLIGHT
BEGIN:STANDARD
TZOFFSETFROM:-0400
TZOFFSETTO:-0500
TZNAME:EST
DTSTART:20241103T060000
END:STANDARD
BEGIN:DAYLIGHT
TZOFFSETFROM:-0500
TZOFFSETTO:-0400
TZNAME:EDT
DTSTART:20250309T070000
END:DAYLIGHT
BEGIN:STANDARD
TZOFFSETFROM:-0400
TZOFFSETTO:-0500
TZNAME:EST
DTSTART:20251102T060000
END:STANDARD
END:VTIMEZONE
BEGIN:VEVENT
DTSTART;TZID=America/New_York:20241022T100000
DTEND;TZID=America/New_York:20241022T113000
DTSTAMP:20260422T153620
CREATED:20240926T221141Z
LAST-MODIFIED:20241021T215736Z
UID:10000025-1729591200-1729596600@pcampatl.com
SUMMARY:Village Workshops: Fall Series
DESCRIPTION:Join us this fall at Atlanta Tech Village Buckhead for our Village Workshop series led by experts in the industry.
URL:https://pcampatl.com/event/village-workshops-fall-series-2/
LOCATION:Atlanta Tech Village\, 3423 Piedmont Road Northeast\, Event Center Conference Room\, Atlanta\, GA\, 30305\, United States
CATEGORIES:Startup
ATTACH;FMTTYPE=image/jpeg:https://pcampatl.com/wp-content/uploads/2024/09/1fa1dcc159de5f8765f9f6d6c8369194.jpg
END:VEVENT
BEGIN:VEVENT
DTSTART;TZID=America/New_York:20241018T130000
DTEND;TZID=America/New_York:20241018T140000
DTSTAMP:20260422T153620
CREATED:20240926T221129Z
LAST-MODIFIED:20240926T221129Z
UID:10000004-1729256400-1729260000@pcampatl.com
SUMMARY:Pitch Practice
DESCRIPTION:Join us in-person at Atlanta Tech Village on Fridays at 1:00pm for Pitch Practice with Jacey Cadet.
URL:https://pcampatl.com/event/pitch-practice-3/
LOCATION:Atlanta Tech Village\, 3423 Piedmont Road Northeast\, Event Center Conference Room\, Atlanta\, GA\, 30305\, United States
ATTACH;FMTTYPE=image/jpeg:https://pcampatl.com/wp-content/uploads/2024/09/fbb9e6af1a290af07b71d67d3bdea673.jpg
END:VEVENT
BEGIN:VEVENT
DTSTART;TZID=America/New_York:20241018T130000
DTEND;TZID=America/New_York:20241018T140000
DTSTAMP:20260422T153620
CREATED:20240926T221128Z
LAST-MODIFIED:20241017T204946Z
UID:10000009-1729256400-1729260000@pcampatl.com
SUMMARY:Pitch Practice
DESCRIPTION:Join us in-person at Atlanta Tech Village on Fridays at 1:00pm for Pitch Practice with Jacey Cadet.
URL:https://pcampatl.com/event/pitch-practice-2/
LOCATION:Atlanta Tech Village\, 3423 Piedmont Road Northeast\, Event Center Conference Room\, Atlanta\, GA\, 30305\, United States
CATEGORIES:Startup
ATTACH;FMTTYPE=image/jpeg:https://pcampatl.com/wp-content/uploads/2024/09/fbb9e6af1a290af07b71d67d3bdea673.jpg
END:VEVENT
BEGIN:VEVENT
DTSTART;TZID=America/New_York:20241018T120000
DTEND;TZID=America/New_York:20241018T130000
DTSTAMP:20260422T153620
CREATED:20240926T221139Z
LAST-MODIFIED:20241017T204947Z
UID:10000019-1729252800-1729256400@pcampatl.com
SUMMARY:Startup Chowdown
DESCRIPTION:Whether you’re a member or a guest\, everyone is welcome to Startup Chowdown!
URL:https://pcampatl.com/event/startup-chowdown-2/
LOCATION:Atlanta Tech Village\, 3423 Piedmont Road Northeast\, Event Center Conference Room\, Atlanta\, GA\, 30305\, United States
CATEGORIES:Startup
ATTACH;FMTTYPE=image/jpeg:https://pcampatl.com/wp-content/uploads/2024/09/feccdfca0a0bafec390f5603042baf67-1.jpg
END:VEVENT
BEGIN:VEVENT
DTSTART;TZID=America/New_York:20241017T180000
DTEND;TZID=America/New_York:20241017T200000
DTSTAMP:20260422T153620
CREATED:20240926T210613Z
LAST-MODIFIED:20241017T180335Z
UID:10000002-1729188000-1729195200@pcampatl.com
SUMMARY:Atlanta Area Product Management Happy Hour - Dunwoody Edition - October 2024
DESCRIPTION:Join Product Coffee and ProductCamp Atlanta for Happy Hour at The Brass Tap/Cowboys & Caviar in Dunwoody!\n\n\nJoin Product Coffee and ProductCamp Atlanta for a “product people” happy hour at The Brass Tap/Cowboys & Caviar in Dunwoody! \nGrab a beer\, glass of wine\, cocktail\, mocktail\, soda\, or snack to keep up your strength as you revel in our usual fare of rich\, delicious product talk! The event starts at 6:00 PM – We hope to see you there! \nThis event is for anyone who is responsible for bringing great products to the market. Whether you are a designer\, product manager\, in product development\, marketing or an entrepreneur\, come join us! \nProduct Coffee Premium members attend this event for free. Join Product Coffee Premium here!
URL:https://pcampatl.com/event/atlanta-area-product-management-happy-hour-dunwoody-edition-october-2024/
LOCATION:Cowboys & Caviar\, 4505 Ashford Dunwoody Road Northeast\, Dunwoody\, GA\, 30346\, United States
CATEGORIES:Product Management
ATTACH;FMTTYPE=image/jpeg:https://pcampatl.com/wp-content/uploads/2024/09/7b9f7928a0ab593ef36c8bac58eed0c0-1.jpg
END:VEVENT
BEGIN:VEVENT
DTSTART;TZID=America/New_York:20241009T120000
DTEND;TZID=America/New_York:20241009T133000
DTSTAMP:20260422T153620
CREATED:20240926T221130Z
LAST-MODIFIED:20241008T184943Z
UID:10000014-1728475200-1728480600@pcampatl.com
SUMMARY:Women + Tech Meetup
DESCRIPTION:Join us for our the Women + Tech Meetup! We will have time for networking and hear a session by a badass woman in Atlanta. More info below:
URL:https://pcampatl.com/event/women-tech-meetup/
LOCATION:Atlanta Tech Village\, 3423 Piedmont Road Northeast\, Event Center Conference Room\, Atlanta\, GA\, 30305\, United States
CATEGORIES:Startup
ATTACH;FMTTYPE=image/jpeg:https://pcampatl.com/wp-content/uploads/2024/09/6ec357f43692f193d814b7289ca083d0-1.jpg
END:VEVENT
BEGIN:VEVENT
DTSTART;TZID=America/New_York:20241008T100000
DTEND;TZID=America/New_York:20241008T113000
DTSTAMP:20260422T153620
CREATED:20240926T221135Z
LAST-MODIFIED:20241006T183033Z
UID:10000017-1728381600-1728387000@pcampatl.com
SUMMARY:Village Workshops: Fall Series
DESCRIPTION:Join us this fall at Atlanta Tech Village Buckhead for our Village Workshop series led by experts in the industry.
URL:https://pcampatl.com/event/village-workshops-fall-series/
LOCATION:Atlanta Tech Village\, 3423 Piedmont Road Northeast\, Event Center Conference Room\, Atlanta\, GA\, 30305\, United States
CATEGORIES:Startup
ATTACH;FMTTYPE=image/jpeg:https://pcampatl.com/wp-content/uploads/2024/10/264675c0d9c4cdb362f268897356a672.jpg
END:VEVENT
BEGIN:VEVENT
DTSTART;TZID=America/New_York:20241004T130000
DTEND;TZID=America/New_York:20241004T140000
DTSTAMP:20260422T153620
CREATED:20240926T221126Z
LAST-MODIFIED:20241002T234709Z
UID:10000003-1728046800-1728050400@pcampatl.com
SUMMARY:Pitch Practice
DESCRIPTION:Join us in-person at Atlanta Tech Village on Fridays at 1:00pm for Pitch Practice with Jacey Cadet.
URL:https://pcampatl.com/event/pitch-practice/
LOCATION:Atlanta Tech Village\, 3423 Piedmont Road Northeast\, Event Center Conference Room\, Atlanta\, GA\, 30305\, United States
CATEGORIES:Startup
ATTACH;FMTTYPE=image/jpeg:https://pcampatl.com/wp-content/uploads/2024/09/fbb9e6af1a290af07b71d67d3bdea673.jpg
END:VEVENT
BEGIN:VEVENT
DTSTART;TZID=America/New_York:20241004T120000
DTEND;TZID=America/New_York:20241004T130000
DTSTAMP:20260422T153620
CREATED:20240926T221132Z
LAST-MODIFIED:20241002T234710Z
UID:10000015-1728043200-1728046800@pcampatl.com
SUMMARY:Startup Chowdown
DESCRIPTION:Whether you’re a member or a guest\, everyone is welcome to Startup Chowdown!
URL:https://pcampatl.com/event/startup-chowdown/
LOCATION:Atlanta Tech Village\, 3423 Piedmont Road Northeast\, Event Center Conference Room\, Atlanta\, GA\, 30305\, United States
CATEGORIES:Startup
ATTACH;FMTTYPE=image/jpeg:https://pcampatl.com/wp-content/uploads/2024/09/feccdfca0a0bafec390f5603042baf67-1.jpg
END:VEVENT
BEGIN:VEVENT
DTSTART;TZID=America/New_York:20241001T110000
DTEND;TZID=America/New_York:20241001T123000
DTSTAMP:20260422T153620
CREATED:20240926T221142Z
LAST-MODIFIED:20240930T230213Z
UID:10000030-1727780400-1727785800@pcampatl.com
SUMMARY:Capital Raise Series by Founders Legal
DESCRIPTION:Join Founders Legal at ATV for two sessions focused on raising capital (Pre-Seed and Seed & Series A).
URL:https://pcampatl.com/event/capital-raise-series-by-founders-legal-2/
LOCATION:Atlanta Tech Village\, 3423 Piedmont Road Northeast\, Event Center Conference Room\, Atlanta\, GA\, 30305\, United States
CATEGORIES:Startup
ATTACH;FMTTYPE=image/jpeg:https://pcampatl.com/wp-content/uploads/2024/09/7505e534e3026e2c74abb96fdbbacbd6.jpg
END:VEVENT
BEGIN:VEVENT
DTSTART;TZID=America/New_York:20240930T183000
DTEND;TZID=America/New_York:20240930T203000
DTSTAMP:20260422T153620
CREATED:20240926T221133Z
LAST-MODIFIED:20240930T230213Z
UID:10000016-1727721000-1727728200@pcampatl.com
SUMMARY:Atlanta Startup Village
DESCRIPTION:Join us in person & on Youtube Live for Atlanta Startup Village in 2024!
URL:https://pcampatl.com/event/atlanta-startup-village/
LOCATION:Atlanta Tech Village\, 3423 Piedmont Road Northeast\, Event Center Conference Room\, Atlanta\, GA\, 30305\, United States
CATEGORIES:Startup
ATTACH;FMTTYPE=image/jpeg:https://pcampatl.com/wp-content/uploads/2024/09/631b7c925240a6740b355c9277f027f8.jpg
END:VEVENT
BEGIN:VEVENT
DTSTART;TZID=America/New_York:20240930T170000
DTEND;TZID=America/New_York:20240930T183000
DTSTAMP:20260422T153620
CREATED:20240926T221136Z
LAST-MODIFIED:20240929T224833Z
UID:10000018-1727715600-1727721000@pcampatl.com
SUMMARY:Capital Raise Series by Founders Legal
DESCRIPTION:Join Founders Legal at ATV for two sessions focused on raising capital (Pre-Seed and Seed & Series A).
URL:https://pcampatl.com/event/capital-raise-series-by-founders-legal/
LOCATION:Atlanta Tech Village\, 3423 Piedmont Road Northeast\, Event Center Conference Room\, Atlanta\, GA\, 30305\, United States
CATEGORIES:Startup
ATTACH;FMTTYPE=image/jpeg:https://pcampatl.com/wp-content/uploads/2024/09/7505e534e3026e2c74abb96fdbbacbd6.jpg
END:VEVENT
END:VCALENDAR