BEGIN:VCALENDAR
VERSION:2.0
PRODID:-//ProductCamp Atlanta - ECPv6.15.13//NONSGML v1.0//EN
CALSCALE:GREGORIAN
METHOD:PUBLISH
X-ORIGINAL-URL:https://pcampatl.com
X-WR-CALDESC:Events for ProductCamp Atlanta
REFRESH-INTERVAL;VALUE=DURATION:PT1H
X-Robots-Tag:noindex
X-PUBLISHED-TTL:PT1H
BEGIN:VTIMEZONE
TZID:America/New_York
BEGIN:DAYLIGHT
TZOFFSETFROM:-0500
TZOFFSETTO:-0400
TZNAME:EDT
DTSTART:20250309T070000
END:DAYLIGHT
BEGIN:STANDARD
TZOFFSETFROM:-0400
TZOFFSETTO:-0500
TZNAME:EST
DTSTART:20251102T060000
END:STANDARD
BEGIN:DAYLIGHT
TZOFFSETFROM:-0500
TZOFFSETTO:-0400
TZNAME:EDT
DTSTART:20260308T070000
END:DAYLIGHT
BEGIN:STANDARD
TZOFFSETFROM:-0400
TZOFFSETTO:-0500
TZNAME:EST
DTSTART:20261101T060000
END:STANDARD
BEGIN:DAYLIGHT
TZOFFSETFROM:-0500
TZOFFSETTO:-0400
TZNAME:EDT
DTSTART:20270314T070000
END:DAYLIGHT
BEGIN:STANDARD
TZOFFSETFROM:-0400
TZOFFSETTO:-0500
TZNAME:EST
DTSTART:20271107T060000
END:STANDARD
END:VTIMEZONE
BEGIN:VEVENT
DTSTART;TZID=America/New_York:20260429T113000
DTEND;TZID=America/New_York:20260429T130000
DTSTAMP:20260421T105830
CREATED:20260420T090246Z
LAST-MODIFIED:20260421T092134Z
UID:10000364-1777462200-1777467600@pcampatl.com
SUMMARY:The Human Cost of Real Product Work
DESCRIPTION:What does shipping at scale take out of you? A candid conversation about burnout\, boundaries\, and building a career that lasts.\n\n\n \nWe talk a lot about the hidden work it takes to keep teams aligned and products moving. We talk less about what that work costs the people carrying it\, and even less about what to do when the cost gets too high. \n \nThe Human Cost of Real Product Work is a conversation about the personal side of invisible load: the mental burden\, the emotional wear and tear\, and the career tradeoffs that can build up slowly until they’re impossible to ignore. But we won’t stop at naming the problem. We’ll dig into what experienced product folks have learned to change\, what they’ve stopped absorbing\, and how to build a product career that is both meaningful and sustainable over time. \n \nJoin us for our community networking coffee chat at 11:30 AM ET. The main program begins at 12:00 PM ET! \n \n———- \nThis Product Coffee session is free to attend courtesy of our sponsor\, Career Whisperer. \nCan’t make it live? Recordings are available exclusively to Product Coffee Insiders and Premium members—and that’s just one of many perks brewing inside Premium. \n☕️ Weekly Product Coffee Virtual Meetups on Zoom ($40/mo value) \n🧐 Weekly Coaching Office Hours ($300/mo value) \n✨ Monthly Professional Development Workshops ($199/mo value) \n📹 Full Session Archive + Workshop Materials \n💬 Private Slack Community \n🤖 Exclusive AI Tools for PMs \n👕 Members-only Product Coffee Swag \nTry Premium FREE for 7 days at productcoffee.com/premium.Then just $49/month\, or $41.59/month with annual billing. \nTotal value? Over $900/month. \nYour cost? About the price of one fancy coffee a week. ☕️ \n———- \nThanks to all of our sponsors! Please visit them\, learn about them and thank them for supporting Product Coffee! \n \nPodium Studios – https://thepodium.studio \nPrizePicks – https://www.prizepicks.com/careers \nProduct Growth Leaders – https://productgrowthleaders.com \nCareer Whisperer – https://careerwhisperer.co \nFeature Upvote – https://www.featureupvote.com \nPlay Me Again Pianos – https://playmeagainpianos.org
URL:https://pcampatl.com/event/the-human-cost-of-real-product-work/
CATEGORIES:Product Management
ATTACH;FMTTYPE=image/jpeg:https://pcampatl.com/wp-content/uploads/2026/04/0bb1ba923bd65edb7cffb3db29cc3cd3.jpg
END:VEVENT
END:VCALENDAR