BEGIN:VCALENDAR
VERSION:2.0
PRODID:-//ProductCamp Atlanta - ECPv6.15.13//NONSGML v1.0//EN
CALSCALE:GREGORIAN
METHOD:PUBLISH
X-WR-CALNAME:ProductCamp Atlanta
X-ORIGINAL-URL:https://pcampatl.com
X-WR-CALDESC:Events for ProductCamp Atlanta
REFRESH-INTERVAL;VALUE=DURATION:PT1H
X-Robots-Tag:noindex
X-PUBLISHED-TTL:PT1H
BEGIN:VTIMEZONE
TZID:America/New_York
BEGIN:DAYLIGHT
TZOFFSETFROM:-0500
TZOFFSETTO:-0400
TZNAME:EDT
DTSTART:20240310T070000
END:DAYLIGHT
BEGIN:STANDARD
TZOFFSETFROM:-0400
TZOFFSETTO:-0500
TZNAME:EST
DTSTART:20241103T060000
END:STANDARD
BEGIN:DAYLIGHT
TZOFFSETFROM:-0500
TZOFFSETTO:-0400
TZNAME:EDT
DTSTART:20250309T070000
END:DAYLIGHT
BEGIN:STANDARD
TZOFFSETFROM:-0400
TZOFFSETTO:-0500
TZNAME:EST
DTSTART:20251102T060000
END:STANDARD
BEGIN:DAYLIGHT
TZOFFSETFROM:-0500
TZOFFSETTO:-0400
TZNAME:EDT
DTSTART:20260308T070000
END:DAYLIGHT
BEGIN:STANDARD
TZOFFSETFROM:-0400
TZOFFSETTO:-0500
TZNAME:EST
DTSTART:20261101T060000
END:STANDARD
END:VTIMEZONE
BEGIN:VTIMEZONE
TZID:-04:00
END:VTIMEZONE
BEGIN:VEVENT
DTSTART;TZID=America/New_York:20250826T100000
DTEND;TZID=America/New_York:20250826T113000
DTSTAMP:20260425T064715
CREATED:20250617T214632Z
LAST-MODIFIED:20250825T193933Z
UID:10000173-1756202400-1756207800@pcampatl.com
SUMMARY:Startup Summer School 2025
DESCRIPTION:Join us for Startup Summer School 2025 at Atlanta Tech Village!
URL:https://pcampatl.com/event/startup-summer-school-2025/
LOCATION:Atlanta Tech Village\, 3423 Piedmont Road Northeast\, Event Center Conference Room\, Atlanta\, GA\, 30305\, United States
CATEGORIES:Startup
ATTACH;FMTTYPE=image/jpeg:https://pcampatl.com/wp-content/uploads/2025/06/ac0ecaab3945541d0c07cee90caf189a.jpg
END:VEVENT
BEGIN:VEVENT
DTSTART;TZID=-04:00:20250826T180000
DTEND;TZID=-04:00:20250826T200000
DTSTAMP:20260425T064715
CREATED:20250617T212628Z
LAST-MODIFIED:20250826T171849Z
UID:10000176-1756231200-1756238400@pcampatl.com
SUMMARY:The Prescription for Innovation: AI's Role in one of GA's Largest Health System
DESCRIPTION:What does it take to implement AI in Healthcare? Join us for a behind-the-scenes conversation with Chief AI Officer\, Nick Yaitsky\, as we explore how enterprise-level AI is being deployed in a mission-critical\, highly regulated environment. \nThis is more than theory — it’s a real-world case study in transformation at scale\, led by one of the industry’s foremost voices. \n**What You’ll Hear:** \n* A firsthand look at how Georgia’s healthcare systems leverage AI to meet their patients’ needs\n* Strategies for aligning AI governance with innovation and compliance\n* Lessons in leadership\, adoption\, and cross-functional transformation\n* A glimpse at the future: emerging roles\, tools\, and lessons that apply beyond healthcare \nWhether you’re an executive shaping strategy\, a builder creating AI products\, or simply trying to stay ahead of the curve — this is a rare opportunity to hear from someone operating at the leading edge of healthcare innovation. \nBring your curiosity — and a friend — and join the conversation with one of the leading voices in enterprise AI.
URL:https://pcampatl.com/event/the-prescription-for-innovation-ais-role-in-one-of-gas-largest-health-system/
LOCATION:The Circuit\, 1 Innovation Way\, Woodstock\, GA\, 30188\, United States
CATEGORIES:Product Management
ATTACH;FMTTYPE=image/jpeg:https://pcampatl.com/wp-content/uploads/2025/08/1024x576-xDEWCg.jpg
GEO:34.10394;-84.51772
X-APPLE-STRUCTURED-LOCATION;VALUE=URI;X-ADDRESS=The Circuit 1 Innovation Way Woodstock GA 30188 United States;X-APPLE-RADIUS=500;X-TITLE=1 Innovation Way:geo:-84.51772,34.10394
END:VEVENT
END:VCALENDAR