BEGIN:VCALENDAR
VERSION:2.0
PRODID:-//ProductCamp Atlanta - ECPv6.15.13//NONSGML v1.0//EN
CALSCALE:GREGORIAN
METHOD:PUBLISH
X-WR-CALNAME:ProductCamp Atlanta
X-ORIGINAL-URL:https://pcampatl.com
X-WR-CALDESC:Events for ProductCamp Atlanta
REFRESH-INTERVAL;VALUE=DURATION:PT1H
X-Robots-Tag:noindex
X-PUBLISHED-TTL:PT1H
BEGIN:VTIMEZONE
TZID:America/New_York
BEGIN:DAYLIGHT
TZOFFSETFROM:-0500
TZOFFSETTO:-0400
TZNAME:EDT
DTSTART:20240310T070000
END:DAYLIGHT
BEGIN:STANDARD
TZOFFSETFROM:-0400
TZOFFSETTO:-0500
TZNAME:EST
DTSTART:20241103T060000
END:STANDARD
BEGIN:DAYLIGHT
TZOFFSETFROM:-0500
TZOFFSETTO:-0400
TZNAME:EDT
DTSTART:20250309T070000
END:DAYLIGHT
BEGIN:STANDARD
TZOFFSETFROM:-0400
TZOFFSETTO:-0500
TZNAME:EST
DTSTART:20251102T060000
END:STANDARD
BEGIN:DAYLIGHT
TZOFFSETFROM:-0500
TZOFFSETTO:-0400
TZNAME:EDT
DTSTART:20260308T070000
END:DAYLIGHT
BEGIN:STANDARD
TZOFFSETFROM:-0400
TZOFFSETTO:-0500
TZNAME:EST
DTSTART:20261101T060000
END:STANDARD
END:VTIMEZONE
BEGIN:VEVENT
DTSTART;TZID=America/New_York:20250730T113000
DTEND;TZID=America/New_York:20250730T133000
DTSTAMP:20260419T083901
CREATED:20250724T063442Z
LAST-MODIFIED:20250730T182241Z
UID:10000185-1753875000-1753882200@pcampatl.com
SUMMARY:Workshop - OKRs That Ignite Your Team
DESCRIPTION:Tired goals don’t move teams. Use AI to wake them up.\n\n\nMost OKR workshops feel like a checkbox. This one’s a launchpad. \n \nJoin Product Coffee founder Jason Brett for a high-impact\, hands-on session designed to help you lead OKR workshops that fire up your team\, create clarity\, and actually deliver results. We’ll walk through how to run a compelling OKR session—and then layer in simple\, powerful AI prompts that help you (and your team) sharpen\, stress-test\, and evolve your OKRs in real time. \nWhether you’re flying solo in product or leading a team across functions\, this workshop will give you tools to create alignment and momentum—even if the rest of your org isn’t using OKRs yet. \nWhat you’ll walk away with:\n✨ A repeatable workshop format to lead quarterly OKR planning \n✨ Techniques to write OKRs that inspire action\, not eye-rolls \n✨ Smart ways to measure what matters with crisp\, outcome-focused KPIs \n✨ A short list of AI prompts you can use to refine\, critique\, or level-up OKRs—on your own or in-session \nThis session is especially great for product managers\, team leads\, and startup folks who need their OKRs to _actually work._ \nThis workshop is FREE for Product Coffee Premium members—but that’s just a sip of what’s included. \nThis workshop is FREE for Product Coffee Premium members—and that’s just one of many perks brewing inside premium. Here’s what else you get with your membership: \n☕️ Weekly Product Coffee Virtual Meetups on Zoom ($40/mo value) \n🧐 Weekly Coaching Office Hours ($300/mo value) \n✨ Monthly Professional Development Workshops ($199/mo value) \n📹 Full Session Archive + Workshop Materials \n💬 Private Slack Community \n🤖 Exclusive AI Tools for PMs \n👕 Members-only Product Coffee Swag \nTry Premium FREE for 7 days at productcoffee.com/premium.Then just $49/month\, or $41.59/month with annual billing. \nTotal value? Over $900/month. \nYour cost? About the price of one fancy coffee a week. ☕️
URL:https://pcampatl.com/event/workshop-okrs-that-ignite-your-team/
CATEGORIES:Product Management
ATTACH;FMTTYPE=image/jpeg:https://pcampatl.com/wp-content/uploads/2025/07/d34c3124b698b7a17db573c6bade4a79.jpg
END:VEVENT
END:VCALENDAR