BEGIN:VCALENDAR
VERSION:2.0
PRODID:-//ProductCamp Atlanta - ECPv6.15.13//NONSGML v1.0//EN
CALSCALE:GREGORIAN
METHOD:PUBLISH
X-WR-CALNAME:ProductCamp Atlanta
X-ORIGINAL-URL:https://pcampatl.com
X-WR-CALDESC:Events for ProductCamp Atlanta
REFRESH-INTERVAL;VALUE=DURATION:PT1H
X-Robots-Tag:noindex
X-PUBLISHED-TTL:PT1H
BEGIN:VTIMEZONE
TZID:America/New_York
BEGIN:DAYLIGHT
TZOFFSETFROM:-0500
TZOFFSETTO:-0400
TZNAME:EDT
DTSTART:20240310T070000
END:DAYLIGHT
BEGIN:STANDARD
TZOFFSETFROM:-0400
TZOFFSETTO:-0500
TZNAME:EST
DTSTART:20241103T060000
END:STANDARD
BEGIN:DAYLIGHT
TZOFFSETFROM:-0500
TZOFFSETTO:-0400
TZNAME:EDT
DTSTART:20250309T070000
END:DAYLIGHT
BEGIN:STANDARD
TZOFFSETFROM:-0400
TZOFFSETTO:-0500
TZNAME:EST
DTSTART:20251102T060000
END:STANDARD
BEGIN:DAYLIGHT
TZOFFSETFROM:-0500
TZOFFSETTO:-0400
TZNAME:EDT
DTSTART:20260308T070000
END:DAYLIGHT
BEGIN:STANDARD
TZOFFSETFROM:-0400
TZOFFSETTO:-0500
TZNAME:EST
DTSTART:20261101T060000
END:STANDARD
END:VTIMEZONE
BEGIN:VTIMEZONE
TZID:-04:00
END:VTIMEZONE
BEGIN:VEVENT
DTSTART;TZID=America/New_York:20250624T100000
DTEND;TZID=America/New_York:20250624T113000
DTSTAMP:20260423T070204
CREATED:20250617T214634Z
LAST-MODIFIED:20250623T202328Z
UID:10000164-1750759200-1750764600@pcampatl.com
SUMMARY:Startup Summer School 2025
DESCRIPTION:Join us for Startup Summer School 2025 at Atlanta Tech Village!
URL:https://pcampatl.com/event/startup-summer-school-2025-10/
LOCATION:Atlanta Tech Village\, 3423 Piedmont Road Northeast\, Event Center Conference Room\, Atlanta\, GA\, 30305\, United States
CATEGORIES:Startup
ATTACH;FMTTYPE=image/jpeg:https://pcampatl.com/wp-content/uploads/2025/06/ac0ecaab3945541d0c07cee90caf189a.jpg
END:VEVENT
BEGIN:VEVENT
DTSTART;TZID=-04:00:20250624T180000
DTEND;TZID=-04:00:20250624T200000
DTSTAMP:20260423T070204
CREATED:20250617T212625Z
LAST-MODIFIED:20250625T010038Z
UID:10000174-1750788000-1750795200@pcampatl.com
SUMMARY:E-Commerce Unfiltered: Real Conversations About What's Working and What's Not
DESCRIPTION:Join us for *E-Commerce Unfiltered*; a candid conversation between two seasoned e-commerce execs about what’s actually working\, what’s not\, and what’s coming next. No slides\, no spin\, just real talk on the challenges\, trends\, and tools shaping the industry. \n**Come for the conversation\, stay for the networking.**\nThis is one you don’t want to miss. \nHosted in partnership with Black Airplane and Cherokee Office of Economic Development.
URL:https://pcampatl.com/event/e-commerce-unfiltered-real-conversations-about-whats-working-and-whats-not/
LOCATION:The Circuit\, 1 Innovation Way\, Woodstock\, GA\, 30188\, United States
CATEGORIES:Product Management
ATTACH;FMTTYPE=image/jpeg:https://pcampatl.com/wp-content/uploads/2025/06/1024x576-qxBbbW.tmp_.jpg
GEO:34.10394;-84.51772
X-APPLE-STRUCTURED-LOCATION;VALUE=URI;X-ADDRESS=The Circuit 1 Innovation Way Woodstock GA 30188 United States;X-APPLE-RADIUS=500;X-TITLE=1 Innovation Way:geo:-84.51772,34.10394
END:VEVENT
END:VCALENDAR