BEGIN:VCALENDAR
VERSION:2.0
PRODID:-//ProductCamp Atlanta - ECPv6.15.13//NONSGML v1.0//EN
CALSCALE:GREGORIAN
METHOD:PUBLISH
X-WR-CALNAME:ProductCamp Atlanta
X-ORIGINAL-URL:https://pcampatl.com
X-WR-CALDESC:Events for ProductCamp Atlanta
REFRESH-INTERVAL;VALUE=DURATION:PT1H
X-Robots-Tag:noindex
X-PUBLISHED-TTL:PT1H
BEGIN:VTIMEZONE
TZID:America/New_York
BEGIN:DAYLIGHT
TZOFFSETFROM:-0500
TZOFFSETTO:-0400
TZNAME:EDT
DTSTART:20240310T070000
END:DAYLIGHT
BEGIN:STANDARD
TZOFFSETFROM:-0400
TZOFFSETTO:-0500
TZNAME:EST
DTSTART:20241103T060000
END:STANDARD
BEGIN:DAYLIGHT
TZOFFSETFROM:-0500
TZOFFSETTO:-0400
TZNAME:EDT
DTSTART:20250309T070000
END:DAYLIGHT
BEGIN:STANDARD
TZOFFSETFROM:-0400
TZOFFSETTO:-0500
TZNAME:EST
DTSTART:20251102T060000
END:STANDARD
BEGIN:DAYLIGHT
TZOFFSETFROM:-0500
TZOFFSETTO:-0400
TZNAME:EDT
DTSTART:20260308T070000
END:DAYLIGHT
BEGIN:STANDARD
TZOFFSETFROM:-0400
TZOFFSETTO:-0500
TZNAME:EST
DTSTART:20261101T060000
END:STANDARD
END:VTIMEZONE
BEGIN:VEVENT
DTSTART;TZID=America/New_York:20250604T113000
DTEND;TZID=America/New_York:20250604T130000
DTSTAMP:20260419T173706
CREATED:20250617T214743Z
LAST-MODIFIED:20250617T214743Z
UID:10000158-1749036600-1749042000@pcampatl.com
SUMMARY:Grounds for Discussion - Are Personas Even Useful Anymore?
DESCRIPTION:Today’s product managers are torn between using traditional personas\, newer archetypes\, or just raw data and insights. Where do you stand?\n\n\nIt’s 2025 and your persona doc might be collecting more dust than insight. This week\, we’re asking the big question: Are personas even useful anymore? Or have they been replaced by archetypes\, jobs-to-be-done\, or just vibes? \nWe’ll explore how top PMs are thinking about customer understanding—and what’s actually working in the field. \nBut that’s not all.We’re also digging into a common career dilemma: Is it better to go deep in one industry or wide across many? We’ll unpack the pros\, cons\, and real talk around building horizontal vs. vertical product expertise. \nGrounds for Discussion is our signature blend of roundtable and town hall—an open\, engaging space where product thinkers\, leaders\, and builders gather to explore the questions that matter most to our community. No slide decks. No rehearsed answers. Just thoughtful dialogue over coffee (or whatever fuels you) with experts and executives who’ve been there.Whether it’s career transitions\, discovery struggles\, team dynamics\, or strategic clarity\, we dig into the real stuff—with coffee in hand and curiosity on tap.It’s one more way we live our mission: to help product professionals grow faster and deliver exceptional market value—together. \nJoin us for our community networking coffee chat at 11:30 AM ET. The main program begins at 12:00 PM ET! \nDid you know this $10 meetup is FREE for Product Coffee Premium members?And that’s just one of many perks brewing inside Premium. Here’s what else you get with your membership: \n☕️ Weekly Product Coffee Virtual Meetups on Zoom ($40/mo value) \n🧐 Weekly Coaching Office Hours ($300/mo value) \n✨ Monthly Professional Development Workshops ($199/mo value) \n📹 Full Session Archive + Workshop Materials \n💬 Private Slack Community \n🤖 Exclusive AI Tools for PMs \n👕 Members-only Product Coffee Swag \nTry Premium FREE for 7 days at productcoffee.com/premium.Then just $49/month\, or $41.59/month with annual billing. \nTotal value? Over $900/month. \nYour cost? About the price of one fancy coffee a week. ☕️
URL:https://pcampatl.com/event/grounds-for-discussion-are-personas-even-useful-anymore/
CATEGORIES:Product Management
ATTACH;FMTTYPE=image/jpeg:https://pcampatl.com/wp-content/uploads/2025/06/ce79104da9219edcdc5eaafd4f8c4589.jpg
END:VEVENT
END:VCALENDAR