BEGIN:VCALENDAR
VERSION:2.0
PRODID:-//ProductCamp Atlanta - ECPv6.15.13//NONSGML v1.0//EN
CALSCALE:GREGORIAN
METHOD:PUBLISH
X-ORIGINAL-URL:https://pcampatl.com
X-WR-CALDESC:Events for ProductCamp Atlanta
REFRESH-INTERVAL;VALUE=DURATION:PT1H
X-Robots-Tag:noindex
X-PUBLISHED-TTL:PT1H
BEGIN:VTIMEZONE
TZID:America/New_York
BEGIN:DAYLIGHT
TZOFFSETFROM:-0500
TZOFFSETTO:-0400
TZNAME:EDT
DTSTART:20240310T070000
END:DAYLIGHT
BEGIN:STANDARD
TZOFFSETFROM:-0400
TZOFFSETTO:-0500
TZNAME:EST
DTSTART:20241103T060000
END:STANDARD
BEGIN:DAYLIGHT
TZOFFSETFROM:-0500
TZOFFSETTO:-0400
TZNAME:EDT
DTSTART:20250309T070000
END:DAYLIGHT
BEGIN:STANDARD
TZOFFSETFROM:-0400
TZOFFSETTO:-0500
TZNAME:EST
DTSTART:20251102T060000
END:STANDARD
BEGIN:DAYLIGHT
TZOFFSETFROM:-0500
TZOFFSETTO:-0400
TZNAME:EDT
DTSTART:20260308T070000
END:DAYLIGHT
BEGIN:STANDARD
TZOFFSETFROM:-0400
TZOFFSETTO:-0500
TZNAME:EST
DTSTART:20261101T060000
END:STANDARD
END:VTIMEZONE
BEGIN:VEVENT
DTSTART;TZID=America/New_York:20250528T073000
DTEND;TZID=America/New_York:20250528T090000
DTSTAMP:20260423T102127
CREATED:20250617T214743Z
LAST-MODIFIED:20250617T214743Z
UID:10000157-1748417400-1748422800@pcampatl.com
SUMMARY:Why Great Ideas Die in Slack: Fixing the Way We Frame New Products
DESCRIPTION:Turn scattered product ideas into clear opportunities. Learn a smarter way to frame\, prioritize\, and build momentum.\n\n\n \n \nThis session is for PMs tired of chasing scattered signals and ready for a smarter way to bring clarity to the chaos. We’ll show you how to stop being an idea sponge and start framing real opportunities. Using a lightweight Product Brief\, you’ll learn how to quickly size up an idea\, align your team\, and decide what happens next.✨ A practical framework and template to turn messy ideas into clear product briefs✨ Live coaching to show how framing can unlock real momentum✨ Tools to help your team stop spinning and start shipping with confidenceIf you’ve ever said\, “Wait\, what happened to that idea from last month?”—this session is for you. Let’s fix how new ideas get noticed\, shaped\, and prioritized. \nJoin us for our community networking coffee chat at 7:30 AM ET. \nThe main program begins at 8:00 AM ET! \nDid you know this $10 meetup is FREE for Product Coffee Premium members?And that’s just one of many perks brewing inside Premium.Here’s what else you get with your membership: \n☕️ Weekly Product Coffee Virtual Meetups on Zoom ($40/mo value) \n🧐 Weekly Coaching Office Hours ($300/mo value) \n✨ Monthly Professional Development Workshops ($199/mo value) \n📹 Full Session Archive + Workshop Materials \n💬 Private Slack Community \n🤖 Exclusive AI Tools for PMs \n👕 Members-only Product Coffee Swag \nTry Premium FREE for 7 days at productcoffee.com/premium.Then just $49/month\, or $41.59/month with annual billing. \nTotal value? Over $900/month. \nYour cost? About the price of one fancy coffee a week. ☕️ \n \nThanks to all of our sponsors! Please visit them\, learn about them and thank them for supporting Product Coffee! \nPodium Studios – https://thepodium.studio \nPrizePicks – https://www.prizepicks.com/careers \nProduct Management University – https://www.productmanagementuniversity.com \nThe Brave Start https://thebravestart.com \nFeature Upvote – https://www.featureupvote.com
URL:https://pcampatl.com/event/why-great-ideas-die-in-slack-fixing-the-way-we-frame-new-products/
CATEGORIES:Product Management
ATTACH;FMTTYPE=image/jpeg:https://pcampatl.com/wp-content/uploads/2025/05/316a830671113a7c2b54803d6b9778bb.jpg
END:VEVENT
END:VCALENDAR