BEGIN:VCALENDAR
VERSION:2.0
PRODID:-//ProductCamp Atlanta - ECPv6.15.13//NONSGML v1.0//EN
CALSCALE:GREGORIAN
METHOD:PUBLISH
X-ORIGINAL-URL:https://pcampatl.com
X-WR-CALDESC:Events for ProductCamp Atlanta
REFRESH-INTERVAL;VALUE=DURATION:PT1H
X-Robots-Tag:noindex
X-PUBLISHED-TTL:PT1H
BEGIN:VTIMEZONE
TZID:America/New_York
BEGIN:DAYLIGHT
TZOFFSETFROM:-0500
TZOFFSETTO:-0400
TZNAME:EDT
DTSTART:20240310T070000
END:DAYLIGHT
BEGIN:STANDARD
TZOFFSETFROM:-0400
TZOFFSETTO:-0500
TZNAME:EST
DTSTART:20241103T060000
END:STANDARD
BEGIN:DAYLIGHT
TZOFFSETFROM:-0500
TZOFFSETTO:-0400
TZNAME:EDT
DTSTART:20250309T070000
END:DAYLIGHT
BEGIN:STANDARD
TZOFFSETFROM:-0400
TZOFFSETTO:-0500
TZNAME:EST
DTSTART:20251102T060000
END:STANDARD
BEGIN:DAYLIGHT
TZOFFSETFROM:-0500
TZOFFSETTO:-0400
TZNAME:EDT
DTSTART:20260308T070000
END:DAYLIGHT
BEGIN:STANDARD
TZOFFSETFROM:-0400
TZOFFSETTO:-0500
TZNAME:EST
DTSTART:20261101T060000
END:STANDARD
END:VTIMEZONE
BEGIN:VEVENT
DTSTART;TZID=America/New_York:20250430T113000
DTEND;TZID=America/New_York:20250430T130000
DTSTAMP:20260423T083021
CREATED:20250617T220501Z
LAST-MODIFIED:20250617T220501Z
UID:10000143-1746012600-1746018000@pcampatl.com
SUMMARY:Move Fast and Build Things: Product Management in the No-Code Era
DESCRIPTION:Learn where no-code and AI “vibe coding” deliver (and where they don’t) to prototype faster\, build smarter\, and level up your PM game.\n\n\n \nWhen the tools are faster than the roadmap\, what’s a PM to do?In this session\, we’re handing you a reality check—and a little inspiration—on how product managers can prototype\, automate\, and solve problems without waiting for engineering resources. Join Nandu Shah (President\, Atlanta CTO Club) and Holly Hester-Reilly (Founder\, Product Science Group + NYU Adjunct Professor) as they demo real examples\, cut through the no-code hype\, and show how PMs can move faster and build smarter.✨ Learn where no-code and low-code tools actually shine—and where they still fall flat.✨ See real-world demos of PM-built prototypes\, websites and internal tools that saved time and unlocked insights.✨ Get a fresh perspective on how “building” can become part of your PM toolkit without getting in over your head. \n \nJoin us for The First Cup and our community networking coffee chat at 11:30 AM ET. The main program begins at 12:00 PM ET! \nDid you know this $10 meetup is FREE for Product Coffee Premium members?And that’s just one of many perks brewing inside Premium. \n \nHere’s what else you get with your membership: \n🧐 Weekly Coaching Office Hours ($300/mo value)✨ Monthly Professional Development Workshops ($199/mo value)📹 Full Session Archive + Workshop Materials💬 Private Slack Community🤖 Exclusive AI Tools for PMs👕 Members-only Product Coffee Swag \nTry Premium FREE for 7 days at productcoffee.com/premium.Then just $49/month\, or $41.59/month with annual billing. \nYour weekly growth fix—on the house. ☕️ \nThanks to all of our sponsors! Please visit them\, learn about them and thank them for supporting Product Coffee! \nPodium Studios – https://thepodium.studio \nPrizePicks – https://www.prizepicks.com/careers \nProduct Management University – https://www.productmanagementuniversity.com \nThe Brave Start https://thebravestart.com \nFeature Upvote – https://www.featureupvote.com
URL:https://pcampatl.com/event/move-fast-and-build-things-product-management-in-the-no-code-era/
CATEGORIES:Product Management
ATTACH;FMTTYPE=image/jpeg:https://pcampatl.com/wp-content/uploads/2025/04/ba6c9b5b24ec6609ae38175654106c6c.jpg
END:VEVENT
END:VCALENDAR